BEGIN:VCALENDAR
VERSION:2.0
PRODID:-//ChamberMaster//Event Calendar 2.0//EN
METHOD:PUBLISH
X-PUBLISHED-TTL:P3D
REFRESH-INTERVAL:P3D
CALSCALE:GREGORIAN
BEGIN:VEVENT
DTSTART:20231110T013000Z
DTEND:20231110T033000Z
X-MICROSOFT-CDO-ALLDAYEVENT:FALSE
SUMMARY:"Yesterday Once More" The Sounds Of Karen Carpenter
DESCRIPTION:Staring Joanne O'Brien\n\nDo you remember the first time you heard the voice of Karen Carpenter? Do you remember the feeling you had the first time you experienced that sound? Let this show take you back to that time and make it yesterday once more. Sponsored by Mitchell Area Concert Association.
X-ALT-DESC;FMTTYPE=text/html:Staring Joanne O&#39\;Brien<br />\nDo you remember the first time you heard the voice of Karen Carpenter? Do you remember the feeling you had the first time you experienced that sound? Let this show take you back to that time and make it yesterday once more. Sponsored by Mitchell Area Concert Association.&nbsp\;
LOCATION:Mitchell Performing Arts Center 821 N. Capital Street Mitchell\, SD 57301
UID:e.1624.35157
SEQUENCE:3
DTSTAMP:20260420T155139Z
URL:https://business.mitchellchamber.com/events/details/yesterday-once-more-the-sounds-of-karen-carpenter-35157
END:VEVENT

END:VCALENDAR
