BEGIN:VCALENDAR
VERSION:2.0
PRODID:-//ChamberMaster//Event Calendar 2.0//EN
METHOD:PUBLISH
X-PUBLISHED-TTL:P3D
REFRESH-INTERVAL:P3D
CALSCALE:GREGORIAN
BEGIN:VEVENT
DTSTART:20181209T013000Z
DTEND:20181209T030000Z
X-MICROSOFT-CDO-ALLDAYEVENT:FALSE
SUMMARY:Yes\, Virginia\, There is a Santa Claus
DESCRIPTION:Two compelling stories come together in this heartwarming play inspired by the famous editorial Yes\, Virginia\, There is a Santa Claus. On Christmas Eve\, 1897\, in New York City\, eight-year-old Virginia is left pondering whether or not Santa really exists after a series of unhappy events. Meanwhile\, a young newspaper editor also struggles against tough holiday times as he is faced with losing his job if he can't find his writer's voice by morning. Author-Jamie Gorski
X-ALT-DESC;FMTTYPE=text/html:Two compelling stories come together in this heartwarming play inspired by the famous editorial Yes\, Virginia\, There is a Santa Claus. On Christmas Eve\, 1897\, in New York City\, eight-year-old Virginia is left pondering whether or not Santa really exists after a series of unhappy events. Meanwhile\, a young newspaper editor also struggles against tough holiday times as he is faced with losing his job if he can&rsquo\;t find his writer&rsquo\;s voice by morning. Author-Jamie Gorski
LOCATION:Pepsi Cola Theatre\, 700 N. Main
UID:e.1624.15386
SEQUENCE:3
DTSTAMP:20260424T203418Z
URL:https://business.mitchellchamber.com/events/details/yes-virginia-there-is-a-santa-claus-12-08-2018-15386
END:VEVENT

END:VCALENDAR
