BEGIN:VCALENDAR
VERSION:2.0
PRODID:-//ChamberMaster//Event Calendar 2.0//EN
METHOD:PUBLISH
X-PUBLISHED-TTL:P3D
REFRESH-INTERVAL:P3D
CALSCALE:GREGORIAN
BEGIN:VEVENT
DTSTART:20221022T000000Z
DTEND:20221022T020000Z
X-MICROSOFT-CDO-ALLDAYEVENT:FALSE
SUMMARY:Xanadu
DESCRIPTION:Mitchell Middle & High School Department of Theatre & Music Present...Xanadu. \n\nBook By: Douglas Carter Beane\n\nMusic & Lyrics By: Jeff Lynne & John Farrar
X-ALT-DESC;FMTTYPE=text/html:Mitchell Middle &amp\; High School Department of Theatre &amp\; Music Present...Xanadu.&nbsp\;<br />\nBook By: Douglas Carter Beane<br />\nMusic &amp\; Lyrics By: Jeff Lynne &amp\; John Farrar
LOCATION:Mitchell Performing Arts Center Ron & Sheilah Gates Auditorium 821 N Capital St Mitchell\, SD 57301
UID:e.1624.32876
SEQUENCE:3
DTSTAMP:20260421T170305Z
URL:https://business.mitchellchamber.com/events/details/xanadu-10-21-2022-32876
END:VEVENT

END:VCALENDAR
