BEGIN:VCALENDAR
VERSION:2.0
PRODID:-//ChamberMaster//Event Calendar 2.0//EN
METHOD:PUBLISH
X-PUBLISHED-TTL:P3D
REFRESH-INTERVAL:P3D
CALSCALE:GREGORIAN
BEGIN:VEVENT
DTSTART:20181214T150000Z
DTEND:20181216T000000Z
X-MICROSOFT-CDO-ALLDAYEVENT:FALSE
SUMMARY:Wrap it Up Shopping Downtown
DESCRIPTION:Christmas will be here before you know it\, and Mitchell businesses want to help you find those last-minute gifts. Free gift-wrapping and other amenities are available at participating businesses to help you finish your list\, stress-free!
X-ALT-DESC;FMTTYPE=text/html:Christmas will be here before you know it\, and Mitchell businesses want to help you find those last-minute gifts. Free gift-wrapping and other amenities are available at participating businesses to help you finish your list\, stress-free!
LOCATION:Various Businesses Mitchell\, SD
UID:e.1624.9174
SEQUENCE:3
DTSTAMP:20260424T203024Z
URL:https://business.mitchellchamber.com/events/details/wrap-it-up-shopping-downtown-9174
END:VEVENT

END:VCALENDAR
