BEGIN:VCALENDAR
VERSION:2.0
PRODID:-//ChamberMaster//Event Calendar 2.0//EN
METHOD:PUBLISH
X-PUBLISHED-TTL:P3D
REFRESH-INTERVAL:P3D
CALSCALE:GREGORIAN
BEGIN:VEVENT
DTSTART:20240213T173000Z
DTEND:20240213T183000Z
X-MICROSOFT-CDO-ALLDAYEVENT:FALSE
SUMMARY:Workforce Knowledge Series: SD CEO East Women's Business Center
DESCRIPTION:Learn about the women's business entrepreneurship ecosystem in South Dakota and the Center's mission\, services\, and programs.
X-ALT-DESC;FMTTYPE=text/html:Learn about the women&#39\;s business entrepreneurship ecosystem in South Dakota and the Center&#39\;s mission\, services\, and programs.&nbsp\;<br />\n<br />\n&nbsp\;
LOCATION:Virtual Event
UID:e.1624.35878
SEQUENCE:3
DTSTAMP:20260420T175125Z
URL:https://business.mitchellchamber.com/events/details/workforce-knowledge-series-sd-ceo-east-women-s-business-center-35878
END:VEVENT

END:VCALENDAR
