BEGIN:VCALENDAR
VERSION:2.0
PRODID:-//ChamberMaster//Event Calendar 2.0//EN
METHOD:PUBLISH
X-PUBLISHED-TTL:P3D
REFRESH-INTERVAL:P3D
CALSCALE:GREGORIAN
BEGIN:VEVENT
DTSTART:20240215T173000Z
DTEND:20240215T183000Z
X-MICROSOFT-CDO-ALLDAYEVENT:FALSE
SUMMARY:Workforce Knowledge Series: Child Labor Laws
DESCRIPTION:Please join us as Brian Mundahl\, Senior Investigator\, Wage\, and hour Division with the U.S. Department of Labor to hear about Child Labor Laws.
X-ALT-DESC;FMTTYPE=text/html:Please join us as Brian Mundahl\, Senior Investigator\, Wage\, and hour Division with the U.S. Department of Labor to hear about Child Labor Laws.&nbsp\;
LOCATION:Virtual Event
UID:e.1624.35879
SEQUENCE:3
DTSTAMP:20260420T160723Z
URL:https://business.mitchellchamber.com/events/details/workforce-knowledge-series-child-labor-laws-35879
END:VEVENT

END:VCALENDAR
