BEGIN:VCALENDAR
VERSION:2.0
PRODID:-//ChamberMaster//Event Calendar 2.0//EN
METHOD:PUBLISH
X-PUBLISHED-TTL:P3D
REFRESH-INTERVAL:P3D
CALSCALE:GREGORIAN
BEGIN:VEVENT
DTSTART:20150826T150000Z
DTEND:20150831T000000Z
X-MICROSOFT-CDO-ALLDAYEVENT:FALSE
SUMMARY:Woolworth's Caramel Apples!
DESCRIPTION:Free Delivery available with minimum order of 10 items! Also serving walking tacos and foot long chili dogs! Pre-order caramel apple vouchers at The Framer (316 N Main) OR online at www.mitchellmainstreet.com/apples A Mitchell tradition since 1959!
X-ALT-DESC;FMTTYPE=text/html:Free Delivery available with minimum order of 10 items! Also serving walking tacos and foot long chili dogs! Pre-order caramel apple vouchers at The Framer (316 N Main) OR online at www.mitchellmainstreet.com/apples A Mitchell tradition since 1959!
LOCATION:Einstein's\, Mitchell Main Street
UID:e.1624.1963
SEQUENCE:3
DTSTAMP:20260420T183433Z
URL:https://business.mitchellchamber.com/events/details/woolworth-s-caramel-apples-08-26-2015-1963
END:VEVENT

END:VCALENDAR
