BEGIN:VCALENDAR
VERSION:2.0
PRODID:-//ChamberMaster//Event Calendar 2.0//EN
METHOD:PUBLISH
X-PUBLISHED-TTL:P3D
REFRESH-INTERVAL:P3D
CALSCALE:GREGORIAN
BEGIN:VEVENT
DTSTART:20231111T180000Z
DTEND:20231112T010000Z
X-MICROSOFT-CDO-ALLDAYEVENT:FALSE
SUMMARY:Wood Toys painting/assembly workshop
DESCRIPTION:Pick your wood toy from selected kits.  Then paint and assemble.  Times are 12:00pm-3:00pm\; 4:00pm-7:00pm.  $25/project
X-ALT-DESC;FMTTYPE=text/html:Pick your wood toy from selected kits.&nbsp\; Then paint and assemble.&nbsp\; Times are 12:00pm-3:00pm\; 4:00pm-7:00pm.&nbsp\; $25/project
LOCATION:Your Shop at 304 N Main St\, Mitchell\, SD 57301
UID:e.1624.34779
SEQUENCE:3
DTSTAMP:20260420T142124Z
URL:https://business.mitchellchamber.com/events/details/wood-toys-painting-assembly-workshop-34779
END:VEVENT

END:VCALENDAR
