BEGIN:VCALENDAR
VERSION:2.0
PRODID:-//ChamberMaster//Event Calendar 2.0//EN
METHOD:PUBLISH
X-PUBLISHED-TTL:P3D
REFRESH-INTERVAL:P3D
CALSCALE:GREGORIAN
BEGIN:VEVENT
DTSTART:20220429T160000Z
DTEND:20220429T190000Z
X-MICROSOFT-CDO-ALLDAYEVENT:FALSE
SUMMARY:Women's Luncheon hosted by Safe Place of ESD
DESCRIPTION:Safe Place of Eastern South Dakota is thrilled to be hosting their annual Women's Empowerment Luncheon on Friday\, April 29th at the Highland Conference Center! Enjoy mingling with like-minded women during the local vendor fair\, followed by a wonderful lunch with keynote speaker Adam Sieff. If you are a woman who is focused on being the best version of yourself\, this event is for you! A professional photographer will be available for headshot photos and raffle tickets will be available for purchase. No one is you and that is your power!\n\n \n\nFor additional information please contact Ashley Hobbs\, Development Director of Safe Place of Eastern South Dakota.
X-ALT-DESC;FMTTYPE=text/html:<span style="font-size:14px\;"><span style="font-family:verdana\;">Safe Place of Eastern South Dakota is thrilled to be hosting their annual Women&rsquo\;s Empowerment Luncheon on Friday\, April 29th at the Highland Conference Center! Enjoy mingling with like-minded women during the local vendor fair\, followed by a wonderful lunch with keynote speaker Adam Sieff. If you are a woman who is focused on being the best version of yourself\, this event is for you! A professional photographer will be available for headshot photos and raffle tickets will be available for purchase. No one is you and that is your power!<br />\n&nbsp\;<br />\nFor additional information please contact Ashley Hobbs\, Development Director of Safe Place of Eastern South Dakota.</span></span>
LOCATION:Highland Conference Center 2000 Highland Way Mitchell\, SD 57301
UID:e.1624.32201
SEQUENCE:3
DTSTAMP:20260422T033034Z
URL:https://business.mitchellchamber.com/events/details/women-s-luncheon-hosted-by-safe-place-of-esd-32201
END:VEVENT

END:VCALENDAR
