BEGIN:VCALENDAR
VERSION:2.0
PRODID:-//ChamberMaster//Event Calendar 2.0//EN
METHOD:PUBLISH
X-PUBLISHED-TTL:P3D
REFRESH-INTERVAL:P3D
CALSCALE:GREGORIAN
BEGIN:VEVENT
DTSTART:20260321T150000Z
DTEND:20260321T200000Z
X-MICROSOFT-CDO-ALLDAYEVENT:FALSE
SUMMARY:Women of the Moose Spring Vendor Fair
DESCRIPTION:Over 20 vendors to shop from & lunch will be served .
X-ALT-DESC;FMTTYPE=text/html:Over 20 vendors to shop from &amp\; lunch will be served .
LOCATION:Mitchell Moose Lodge 516 W 15th
UID:e.1624.42648
SEQUENCE:3
DTSTAMP:20260423T123350Z
URL:https://business.mitchellchamber.com/events/details/women-of-the-moose-spring-vendor-fair-42648
END:VEVENT

END:VCALENDAR
