BEGIN:VCALENDAR
VERSION:2.0
PRODID:-//ChamberMaster//Event Calendar 2.0//EN
METHOD:PUBLISH
X-PUBLISHED-TTL:P3D
REFRESH-INTERVAL:P3D
CALSCALE:GREGORIAN
BEGIN:VEVENT
DTSTART:20171025T150000Z
DTEND:20171025T153000Z
X-MICROSOFT-CDO-ALLDAYEVENT:FALSE
SUMMARY:Wold's Only Corn Palace 2019 Corn Palace Mural Theme Announcement
DESCRIPTION:The World's Only Corn Palace is proud to announce that the USS SOUTH DAKOTA Commanding Officer\, Chief of Boat and Crew will help announce the 2019 Corn Palace mural theme.  This announcement will come at a press conference that is being held at the Corn Palace on Wednesday\, October 25th at 10A.M.  Members of the Mitchell American Legion\, VFW and DAV will also be in attendance for this event.
X-ALT-DESC;FMTTYPE=text/html:<span style="color:black\;">The World&rsquo\;s Only Corn Palace is proud to announce that the USS SOUTH DAKOTA Commanding Officer\, Chief of Boat and Crew will help announce the 2019 Corn Palace mural theme.&nbsp\; This announcement will come at a press conference that is being held at the Corn Palace on Wednesday\, October 25<sup>th</sup> at 10A.M.&nbsp\; Members of the Mitchell American Legion\, VFW and DAV will also be in attendance for this event.&nbsp\;&nbsp\; </span><br />\n&nbsp\;<br />\n&nbsp\;
LOCATION:The World's Only Corn Palace 604 N. Main Street\, Mitchell
UID:e.1624.9131
SEQUENCE:3
DTSTAMP:20260426T014011Z
URL:https://business.mitchellchamber.com/events/details/wold-s-only-corn-palace-2019-corn-palace-mural-theme-announcement-9131
END:VEVENT

END:VCALENDAR
