BEGIN:VCALENDAR
VERSION:2.0
PRODID:-//ChamberMaster//Event Calendar 2.0//EN
METHOD:PUBLISH
X-PUBLISHED-TTL:P3D
REFRESH-INTERVAL:P3D
CALSCALE:GREGORIAN
BEGIN:VEVENT
DTSTART:20181202T220000Z
DTEND:20181203T000000Z
X-MICROSOFT-CDO-ALLDAYEVENT:FALSE
SUMMARY:Wizards of Winter
DESCRIPTION:Holiday rock ensemble the WIZARDS OF WINTER – featuring former members of the Trans-Siberian Orchestra\, Rainbow and the bands of Alice Cooper and Ted Nugent – are coming to The World’s Only Mitchell Corn Palace on Sunday\, December 2\,2018.  Tickets can be purchased at The Palace box office\, by phone at 605-995-8430 or online at www.cornpalace.com.  \n http://cornpalace.com/calendar.aspx?EID=272
X-ALT-DESC;FMTTYPE=text/html:Holiday rock ensemble the WIZARDS OF WINTER – featuring former members of the Trans-Siberian Orchestra\, Rainbow and the bands of Alice Cooper and Ted Nugent – are coming to The World’s Only Mitchell Corn Palace on Sunday\, December 2\,2018.  Tickets can be purchased at The Palace box office\, by phone at 605-995-8430 or online at www.cornpalace.com.  \n http://cornpalace.com/calendar.aspx?EID=272
LOCATION:- 604 N Main Mitchell SD 57301
UID:e.1624.20210
SEQUENCE:3
DTSTAMP:20260424T203315Z
URL:https://business.mitchellchamber.com/events/details/wizards-of-winter-12-02-2018-20210
END:VEVENT

END:VCALENDAR
