BEGIN:VCALENDAR
VERSION:2.0
PRODID:-//ChamberMaster//Event Calendar 2.0//EN
METHOD:PUBLISH
X-PUBLISHED-TTL:P3D
REFRESH-INTERVAL:P3D
CALSCALE:GREGORIAN
BEGIN:VEVENT
DTSTART:20190320T230000Z
DTEND:20190321T003000Z
X-MICROSOFT-CDO-ALLDAYEVENT:FALSE
SUMMARY:Wisdom from the Hardwood: Defining a Success Worth Shooting For
DESCRIPTION:Celebrate MARCH MADNESS with major motivation! Dakota Wesleyan University invites the public to the 2019 Stark Lecture speaker Dr. Jerry L. Walls. Walls will speak about his book\, "Wisdom from the Hardwood: Defining a Success Worth Shooting For" - which provides a clear and practical framework for success applicable to our personal and professional lives. Athletes of all ages won't want to miss this Christian message! With wisdom and insight from NBA stars like Michael Jordan\, Larry Bird and LeBron James\, Walls offers worthwhile inspiration that measures winning beyond the final number on the scoreboard.
X-ALT-DESC;FMTTYPE=text/html:Celebrate MARCH MADNESS with major motivation! Dakota Wesleyan University invites the public to the 2019 Stark Lecture speaker Dr. Jerry L. Walls. Walls will speak about his book\, &ldquo\;Wisdom from the Hardwood: Defining a Success Worth Shooting For&rdquo\; - which provides a clear and practical framework for success applicable to our personal and professional lives. Athletes of all ages won&rsquo\;t want to miss this Christian message! With wisdom and insight from NBA stars like Michael Jordan\, Larry Bird and LeBron James\, Walls offers worthwhile inspiration that measures winning beyond the final number on the scoreboard.
LOCATION:DWU Sherman Center\, Dakota Wesleyan University campus
UID:e.1624.22658
SEQUENCE:3
DTSTAMP:20260424T155506Z
URL:https://business.mitchellchamber.com/events/details/wisdom-from-the-hardwood-defining-a-success-worth-shooting-for-22658
END:VEVENT

END:VCALENDAR
