BEGIN:VCALENDAR
VERSION:2.0
PRODID:-//ChamberMaster//Event Calendar 2.0//EN
METHOD:PUBLISH
X-PUBLISHED-TTL:P3D
REFRESH-INTERVAL:P3D
CALSCALE:GREGORIAN
BEGIN:VEVENT
DTSTART:20240204T000000Z
DTEND:20240204T033000Z
X-MICROSOFT-CDO-ALLDAYEVENT:FALSE
SUMMARY:Winter Escape hosted by Big Friend Little Friend
DESCRIPTION:Take a break from the winter weather and attend the Winter Escape hosted by Big Friend Little Friend! There will be nacho/taco bar\, casino games\, bowling\, and prizes in addition to an online auction. Take part in the Winter Escape by purchasing an individual ticket or by attending as part of a lane sponsorship (details below).\n\nLane Sponsorships are full for this event.\n\nIndividual Ticket\n\nCost: $30\n\nIncludes: Dinner and casino cash to participate in games. This is a great option if you want to come and have fun but do not want to bowl.\n\nIdividual tickets can be purchased at the event. Event registration begins at 6:00 PM. Call 605-292-4444 for more info
X-ALT-DESC;FMTTYPE=text/html:<div>Take a break from the winter weather and attend the Winter Escape hosted by Big Friend Little Friend! There will be nacho/taco bar\, casino games\, bowling\, and prizes in addition to an online auction. Take part in the Winter Escape by purchasing an individual ticket or by attending as part of a lane sponsorship (details below).</div>\n\n<div>Lane Sponsorships are full for this event.</div>\n\n<div>Individual Ticket<br />\nCost: $30<br />\nIncludes: Dinner and casino cash to participate in games. This is a great option if you want to come and have fun but do not want to bowl.</div>\n\n<div>Idividual tickets can be purchased at the event. Event registration begins at 6:00 PM. Call 605-292-4444 for more info</div>\n
LOCATION:Village Bowling Center 300 W 15th Ave Mitchell\, SD 557301
UID:e.1624.35842
SEQUENCE:3
DTSTAMP:20260420T161329Z
URL:https://business.mitchellchamber.com/events/details/winter-escape-hosted-by-big-friend-little-friend-35842
END:VEVENT

END:VCALENDAR
