BEGIN:VCALENDAR
VERSION:2.0
PRODID:-//ChamberMaster//Event Calendar 2.0//EN
METHOD:PUBLISH
X-PUBLISHED-TTL:P3D
REFRESH-INTERVAL:P3D
CALSCALE:GREGORIAN
BEGIN:VEVENT
DTSTART:20180324T180000Z
DTEND:20180324T213000Z
X-MICROSOFT-CDO-ALLDAYEVENT:FALSE
SUMMARY:Wingapalooza
DESCRIPTION:Crazy hot wing recipes\, green beer\, and March Madness will now partner up for the seventh annual Wingapalooza in downtown Mitchell.\n\n \n\nWingapalooza\, which is a fundraiser for Mitchell Main Street & Beyond\, is set for 1:00pm to 4:30 p.m.\, Saturday\, March 24\, at the Corn Palace in Mitchell.  Tickets to attend Wingapalooza are $12 in advance and $15 at the door\, tickets are good for 18 wings per person and additional wing tickets can be purchased for $1.00 each. Advance tickets will be sold at the Mitchell Main Street & Beyond office (601 N Main St)\, at Coborn's and County Fair Food Store until March 23. Party packages are also available and souvenir unlimited drink cups will be available for $15.\n\n                             \n\nFor more information about Mitchell Main Street & Beyond\, visit www.mitchellmainstreet.com or call the office at 605-990-4500.
X-ALT-DESC;FMTTYPE=text/html:<span style="font-family:calibri\,sans-serif">Crazy hot wing recipes\, green beer\, and March Madness will now partner up for the seventh annual Wingapalooza in downtown Mitchell.</span><br />\n&nbsp\;<br />\n<span style="font-family:calibri\,sans-serif">Wingapalooza\, which is a fundraiser for Mitchell Main Street &amp\; Beyond\, is set for 1:00pm to 4:30 p.m.\, Saturday\, March 24\, at the Corn Palace in Mitchell. &nbsp\;Tickets to attend Wingapalooza are $12 in advance and $15 at the door\, tickets are good for 18 wings per person and additional wing tickets can be purchased for $1.00 each. Advance tickets will be sold at the Mitchell Main Street &amp\; Beyond office (601 N Main St)\, at Coborn&rsquo\;s and County Fair Food Store until March 23. Party packages are also available and souvenir unlimited drink cups will be available for $15.</span><br />\n&nbsp\;&nbsp\;&nbsp\;&nbsp\;&nbsp\;&nbsp\;&nbsp\;&nbsp\;&nbsp\;&nbsp\;&nbsp\;&nbsp\;&nbsp\;&nbsp\;&nbsp\;&nbsp\;&nbsp\;&nbsp\;&nbsp\;&nbsp\;&nbsp\;&nbsp\;&nbsp\;&nbsp\;&nbsp\;&nbsp\;&nbsp\;&nbsp\;&nbsp\;<br />\n<span style="font-family:calibri\,sans-serif">For more information about Mitchell Main Street &amp\; Beyond\, visit </span><a href="http://www.mitchellmainstreet.com/"><span style="color:windowtext"><span style="font-family:calibri\,sans-serif">www.mitchellmainstreet.com</span></span></a><span style="font-family:calibri\,sans-serif"> or call the office at 605-990-4500.</span>
LOCATION:Corn Palace
UID:e.1624.12383
SEQUENCE:3
DTSTAMP:20260425T173306Z
URL:https://business.mitchellchamber.com/events/details/wingapalooza-03-24-2018-12383
END:VEVENT

END:VCALENDAR
