BEGIN:VCALENDAR
VERSION:2.0
PRODID:-//ChamberMaster//Event Calendar 2.0//EN
METHOD:PUBLISH
X-PUBLISHED-TTL:P3D
REFRESH-INTERVAL:P3D
CALSCALE:GREGORIAN
BEGIN:VEVENT
DTSTART:20221005T160000Z
DTEND:20221005T160000Z
X-MICROSOFT-CDO-ALLDAYEVENT:FALSE
SUMMARY:Wednesday Wellness at James Valley Community Center
DESCRIPTION:Wednesday Wellness   We are partnering with the DWU Nursing Students for Wednesday Wellness in October & November. Wed.\, October 5th @ 11 am they will present on Immunizations   On Wed.\, Nov. 9 @ 11 am they will present information about diabetes   Call ahead if you are planning on reserving a meal.
X-ALT-DESC;FMTTYPE=text/html:Wednesday Wellness &ndash\; We are partnering with the DWU Nursing Students for Wednesday Wellness in October &amp\; November. Wed.\, October 5th @ 11 am they will present on Immunizations &ndash\; On Wed.\, Nov. 9 @ 11 am they will present information about diabetes &ndash\; Call ahead if you are planning on reserving a meal.
LOCATION:James Valley Community Center 300 W 1st Ave\, Mitchell
UID:e.1624.32853
SEQUENCE:3
DTSTAMP:20260421T170716Z
URL:https://business.mitchellchamber.com/events/details/wednesday-wellness-at-james-valley-community-center-10-05-2022-32853
END:VEVENT

END:VCALENDAR
