BEGIN:VCALENDAR
VERSION:2.0
PRODID:-//ChamberMaster//Event Calendar 2.0//EN
METHOD:PUBLISH
X-PUBLISHED-TTL:P3D
REFRESH-INTERVAL:P3D
CALSCALE:GREGORIAN
BEGIN:VEVENT
DTSTART:20220810T160000Z
DTEND:20220810T164500Z
X-MICROSOFT-CDO-ALLDAYEVENT:FALSE
SUMMARY:Wednesday Wellness at James Valley Community Center
DESCRIPTION:Wednesday Wellness   Wednesday\, Aug. 8 @ 11 am featuring Mitchell CASA   Hear about Court Appointed Special Advocates For Children for the Mitchell Area.
X-ALT-DESC;FMTTYPE=text/html:Wednesday Wellness &ndash\; Wednesday\, Aug. 8 @ 11 am featuring Mitchell CASA &ndash\; Hear about Court Appointed Special Advocates For Children for the Mitchell Area.
LOCATION:James Valley Community Center 300 W 1st Ave\, Mitchell\, SD
UID:e.1624.32669
SEQUENCE:3
DTSTAMP:20260424T020907Z
URL:https://business.mitchellchamber.com/events/details/wednesday-wellness-at-james-valley-community-center-08-03-2022-32669
END:VEVENT

END:VCALENDAR
