BEGIN:VCALENDAR
VERSION:2.0
PRODID:-//ChamberMaster//Event Calendar 2.0//EN
METHOD:PUBLISH
X-PUBLISHED-TTL:P3D
REFRESH-INTERVAL:P3D
CALSCALE:GREGORIAN
BEGIN:VEVENT
DTSTART:20220608T160000Z
DTEND:20220608T163000Z
X-MICROSOFT-CDO-ALLDAYEVENT:FALSE
SUMMARY:Wednesday Wellness at James Valley Community Center
DESCRIPTION:Wednesday Wellness   Wednesday\, June 8th @ 11 am featuring Home Instead   Hear about personalized care to help you live safely in your home.
X-ALT-DESC;FMTTYPE=text/html:Wednesday Wellness &ndash\; Wednesday\, June 8th @ 11 am featuring Home Instead &ndash\; Hear about personalized care to help you live safely in your home.
LOCATION:James Valley Community Center
UID:e.1624.32569
SEQUENCE:3
DTSTAMP:20260421T235354Z
URL:https://business.mitchellchamber.com/events/details/wednesday-wellness-at-james-valley-community-center-06-08-2022-32569
END:VEVENT

END:VCALENDAR
