BEGIN:VCALENDAR
VERSION:2.0
PRODID:-//ChamberMaster//Event Calendar 2.0//EN
METHOD:PUBLISH
X-PUBLISHED-TTL:P3D
REFRESH-INTERVAL:P3D
CALSCALE:GREGORIAN
BEGIN:VEVENT
DTSTART:20240207T163000Z
DTEND:20240207T173000Z
X-MICROSOFT-CDO-ALLDAYEVENT:FALSE
SUMMARY:Wednesday Wellness
DESCRIPTION:Wednesday Wellness   Teresa Gillen\, Volunteer Coordinator of Avera @ Home will speak on Wednesday\, Feb. 7th @ at 10:30 am at JVCC   Learn about volunteer opportunities and the services of Avera @ Home & Hospice. Join us for cookies & get your questions answered.
X-ALT-DESC;FMTTYPE=text/html:Wednesday Wellness &ndash\; Teresa Gillen\, Volunteer Coordinator of Avera @ Home will speak on Wednesday\, Feb. 7th @ at 10:30 am at JVCC &ndash\; Learn about volunteer opportunities and the services of Avera @ Home &amp\; Hospice. Join us for cookies &amp\; get your questions answered.
LOCATION:James Valley Community Center 300 W 1st Ave\, Mitchell
UID:e.1624.35846
SEQUENCE:3
DTSTAMP:20260420T160918Z
URL:https://business.mitchellchamber.com/events/details/wednesday-wellness-02-07-2024-35846
END:VEVENT

END:VCALENDAR
