BEGIN:VCALENDAR
VERSION:2.0
PRODID:-//ChamberMaster//Event Calendar 2.0//EN
METHOD:PUBLISH
X-PUBLISHED-TTL:P3D
REFRESH-INTERVAL:P3D
CALSCALE:GREGORIAN
BEGIN:VEVENT
DTSTART:20200305T210000Z
DTEND:20200305T220000Z
X-MICROSOFT-CDO-ALLDAYEVENT:FALSE
SUMMARY:Wausau Homes Ribbon Cutting
DESCRIPTION:Join us for a ribbon cutting ceremony to welcome Wausau Homes of Mitchell! Wausau Homes is a fully custom component home builder. They have been in business for over 60 years with over 200\,000 homes in communities across the country. Clients completely customize floor plans and finishes. Each design is unique and one-of-a-kind!
X-ALT-DESC;FMTTYPE=text/html:Join us for a ribbon cutting ceremony to welcome Wausau Homes of Mitchell! Wausau Homes is a fully custom component home builder. They have been in business for over 60 years with over 200\,000 homes in communities across the country. Clients completely customize floor plans and finishes. Each design is unique and one-of-a-kind!
LOCATION:Highland Mall Suite T
UID:e.1624.29174
SEQUENCE:3
DTSTAMP:20260423T204613Z
URL:https://business.mitchellchamber.com/events/details/wausau-homes-ribbon-cutting-29174
END:VEVENT

END:VCALENDAR
