BEGIN:VCALENDAR
VERSION:2.0
PRODID:-//ChamberMaster//Event Calendar 2.0//EN
METHOD:PUBLISH
X-PUBLISHED-TTL:P3D
REFRESH-INTERVAL:P3D
CALSCALE:GREGORIAN
BEGIN:VEVENT
DTSTART:20240507T220000Z
DTEND:20240508T000000Z
X-MICROSOFT-CDO-ALLDAYEVENT:FALSE
SUMMARY:Watershed Open House
DESCRIPTION:Join us at Valley View Villa for the Watershed Open House\, a come-and-go event! Explore our watershed maintenance and restoration projects from 5-7 PM. Engage with representatives from Game Fish & Parks and other orginizations to explain this water filtering action. \n\n\n\nPresented by the Forward 2040 Enhance Mitchell Task Force
X-ALT-DESC;FMTTYPE=text/html:Join us at Valley View Villa for the Watershed Open House\, a come-and-go event! Explore our watershed maintenance and restoration projects from 5-7 PM. Engage with representatives from Game Fish &amp\; Parks and other orginizations to explain this water filtering action.&nbsp\;<br />\n<br />\nPresented by the Forward 2040 Enhance Mitchell Task Force&nbsp\;
LOCATION:Valley View Villa 40580 250th St. Mitchell\, SD 57301
UID:e.1624.36255
SEQUENCE:3
DTSTAMP:20260420T063454Z
URL:https://business.mitchellchamber.com/events/details/watershed-open-house-36255
END:VEVENT

END:VCALENDAR
