BEGIN:VCALENDAR
VERSION:2.0
PRODID:-//ChamberMaster//Event Calendar 2.0//EN
METHOD:PUBLISH
X-PUBLISHED-TTL:P3D
REFRESH-INTERVAL:P3D
CALSCALE:GREGORIAN
BEGIN:VEVENT
DTSTART:20220706T143000Z
DTEND:20220706T153000Z
X-MICROSOFT-CDO-ALLDAYEVENT:FALSE
SUMMARY:Water Wildlife (SD Games Fish & Parks)
DESCRIPTION:Come to the Corn Palace Plaza on Wed. July 6 at 9:30am & 11am to learn about fish identification\, waterfowl\, and water mammals from Jason Nelson of SD Game\, Fish & Parks' Outdoor Campus. This event is part of Mitchell Public Library's Summer Reading Program. Everyone is welcome. Questions: Contact Jean Patrick\, Children's Librarian: 605-995-8480.
X-ALT-DESC;FMTTYPE=text/html:Come to the Corn Palace Plaza on Wed. July 6 at 9:30am &amp\; 11am to learn about fish identification\, waterfowl\, and water mammals from Jason Nelson of SD Game\, Fish &amp\; Parks&#39\; Outdoor Campus. This event is part of Mitchell Public Library&#39\;s Summer Reading Program. Everyone is welcome. Questions: Contact Jean Patrick\, Children&#39\;s Librarian: 605-995-8480.
LOCATION:Corn Palace Plaza
UID:e.1624.32634
SEQUENCE:3
DTSTAMP:20260421T221245Z
URL:https://business.mitchellchamber.com/events/details/water-wildlife-sd-games-fish-parks-32634
END:VEVENT

END:VCALENDAR
