BEGIN:VCALENDAR
VERSION:2.0
PRODID:-//ChamberMaster//Event Calendar 2.0//EN
METHOD:PUBLISH
X-PUBLISHED-TTL:P3D
REFRESH-INTERVAL:P3D
CALSCALE:GREGORIAN
BEGIN:VEVENT
DTSTART:20220702T143000Z
DTEND:20220702T180000Z
X-MICROSOFT-CDO-ALLDAYEVENT:FALSE
SUMMARY:Wall of Heroes Charter Bus Trip for Veterans
DESCRIPTION:The Traveling Vietnam Memorial Wall will be viewable in Parkston's East City Park. The Wall\, which is 360 feet long\, will be on display along with 68 additional panels of other wars and conflicts throughout America's history.  \n\nJoin us as we honor all those who served and pay respect to those who made the ultimate sacrifice for our freedom.\n\nCall to sign up at 605-995-8619 or 605-680-1046\n\n(Seating is limited)
X-ALT-DESC;FMTTYPE=text/html:<span style="font-family:copperplate gothic bold\,sans-serif\;"><span style="font-size:18.6667px\;">The Traveling Vietnam Memorial Wall will be viewable in Parkston&#39\;s East City Park. The Wall\, which is 360 feet long\, will be on display along&nbsp\;</span></span><span style="font-family:copperplate gothic bold\,sans-serif\;"><span style="font-size:18.6667px\;">with 68 additional&nbsp\;</span></span><span style="font-family:copperplate gothic bold\,sans-serif\;"><span style="font-size:18.6667px\;">panels of other&nbsp\;</span></span><span style="font-family:copperplate gothic bold\,sans-serif\;"><span style="font-size:18.6667px\;">wars and conflicts&nbsp\;throughout America&#39\;s history.&nbsp\;&nbsp\;</span></span><br />\n<span style="font-family:copperplate gothic bold\,sans-serif\;"><span style="font-size:18.6667px\;">Join us as we honor all those who served and pay respect to those who made the ultimate sacrifice for our freedom.<br />\nCall to sign up at 605-995-8619 or 605-680-1046</span></span><br />\n(Seating is limited)<br />\n&nbsp\;<br />\n&nbsp\;
LOCATION:Buses will depart from Holy Family Church\, 222 N. Kimball in Mitchell. Please bring a lawn chair if you may need seating in Parkston.
UID:e.1624.32656
SEQUENCE:3
DTSTAMP:20260421T221610Z
URL:https://business.mitchellchamber.com/events/details/wall-of-heroes-charter-bus-trip-for-veterans-32656
END:VEVENT

END:VCALENDAR
