BEGIN:VCALENDAR
VERSION:2.0
PRODID:-//ChamberMaster//Event Calendar 2.0//EN
METHOD:PUBLISH
X-PUBLISHED-TTL:P3D
REFRESH-INTERVAL:P3D
CALSCALE:GREGORIAN
BEGIN:VEVENT
DTSTART:20151111T173000Z
DTEND:20151111T190000Z
X-MICROSOFT-CDO-ALLDAYEVENT:FALSE
SUMMARY:Veterans Day Luncheon
DESCRIPTION:Luncheon to honor veterans for their service to the country.
X-ALT-DESC;FMTTYPE=text/html:Luncheon to honor veterans for their service to the country.
LOCATION:Davison County Fairgrounds
UID:e.1624.2005
SEQUENCE:3
DTSTAMP:20260422T012405Z
URL:https://business.mitchellchamber.com/events/details/veterans-day-luncheon-11-11-2015-2005
END:VEVENT

END:VCALENDAR
