BEGIN:VCALENDAR
VERSION:2.0
PRODID:-//ChamberMaster//Event Calendar 2.0//EN
METHOD:PUBLISH
X-PUBLISHED-TTL:P3D
REFRESH-INTERVAL:P3D
CALSCALE:GREGORIAN
BEGIN:VEVENT
DTSTART:20171025T163000Z
DTEND:20171025T180000Z
X-MICROSOFT-CDO-ALLDAYEVENT:FALSE
SUMMARY:USS South Dakota Public Lunch
DESCRIPTION:James Valley Community Center will host the USS SOUTH DAKOTA Crew for lunch.  Lunch is served at 11:30 a.m.  The crew is anticipated to arrive at noon.  Reservation for lunch are required\, please call 995-8441 by 8 am\, October 25. The cost for the meal is $4 for ages 60 and over.  Anyone under the age of 60 can purchase the meal for $6.
X-ALT-DESC;FMTTYPE=text/html:<span style="font-size:14px\;"><span style="font-family: times new roman\;"><span style="color: black\;">James Valley Community Center will host the USS SOUTH DAKOTA Crew for lunch.&nbsp\; </span>Lunch is served at 11:30 a.m.&nbsp\; The crew is anticipated to arrive at noon.&nbsp\; Reservation for lunch are required\, please call 995-8441 by 8 am\, October 25. The cost for the meal is $4 for ages 60 and over.&nbsp\; Anyone under the age of 60 can purchase the meal for $6.&nbsp\;</span></span><br />\n<br />\n&nbsp\;
LOCATION:James Valley Community Center 301 West 1st Ave\, Mitchell
UID:e.1624.9129
SEQUENCE:3
DTSTAMP:20260426T013955Z
URL:https://business.mitchellchamber.com/events/details/uss-south-dakota-public-lunch-9129
END:VEVENT

END:VCALENDAR
