BEGIN:VCALENDAR
VERSION:2.0
PRODID:-//ChamberMaster//Event Calendar 2.0//EN
METHOD:PUBLISH
X-PUBLISHED-TTL:P3D
REFRESH-INTERVAL:P3D
CALSCALE:GREGORIAN
BEGIN:VEVENT
DTSTART:20171025T230000Z
DTEND:20171026T020000Z
X-MICROSOFT-CDO-ALLDAYEVENT:FALSE
SUMMARY:USS South Dakota Banquet
DESCRIPTION:USS South Dakota Banquet held at 6P.M. on October 25th at the World's Only Corn Palace.  Banquet tickets will be $20.00 and can be purchased at the Mitchell American Legion or VFW starting on Saturday October 7th and at the World's Only Corn Palace box office starting on Tuesday October 10th.  This banquet is open to the public.
X-ALT-DESC;FMTTYPE=text/html:<span style="font-family:times new roman\;"><span style="color: black\;">USS South Dakota Banquet held at 6P.M. on October 25<sup>th</sup> at the World&rsquo\;s Only Corn Palace.&nbsp\; Banquet tickets will be $20.00 and can be purchased at the Mitchell American Legion or VFW starting on Saturday October 7<sup>th</sup> and at the World&rsquo\;s Only Corn Palace box office starting on Tuesday October 10<sup>th</sup>.&nbsp\; This banquet is open to the public.&nbsp\; </span></span><br />\n&nbsp\;
LOCATION:World's Only Corn Palace 604 Main Street\, Mitchell
UID:e.1624.9130
SEQUENCE:3
DTSTAMP:20260426T013951Z
URL:https://business.mitchellchamber.com/events/details/uss-south-dakota-banquet-9130
END:VEVENT

END:VCALENDAR
