BEGIN:VCALENDAR
VERSION:2.0
PRODID:-//ChamberMaster//Event Calendar 2.0//EN
METHOD:PUBLISH
X-PUBLISHED-TTL:P3D
REFRESH-INTERVAL:P3D
CALSCALE:GREGORIAN
BEGIN:VEVENT
DTSTART:20171025T170000Z
DTEND:20171025T180000Z
X-MICROSOFT-CDO-ALLDAYEVENT:FALSE
SUMMARY:USS SD Visit @ JVCC
DESCRIPTION:USS South Dakota Crew   Members of the USS South Dakota Crew will be visiting JVCC over lunch on Wed.\, Oct. 25th - Members and the public will have the opportunity to visit with the crew   Don't forget to make your reservation for lunch by calling 995-8441 the previous day or by 8 a.m. the day of.  Lunch is served at 11:30 a.m.  The crew is anticipated to be here at noon.  The menu for the day is turkey\, mashed potatoes and gravy\, carrots and fruit.  There is also a fashion show planned for the day beginning at noon.  The cost for the meal is $4 for ages 60 and over.  Anyone under the age of 60 can purchase the meal for $6.  If you are planning on staying for the Fashion Show\, there is no charge for members and a daily fee of $1 for non-members
X-ALT-DESC;FMTTYPE=text/html:<strong><span style="font-size:12.0pt">USS South Dakota Crew &ndash\; Members of the USS South Dakota Crew will be visiting JVCC over lunch on Wed.\, Oct. 25<sup>th</sup> - Members and the public will have the opportunity to visit with the crew &ndash\; Don&rsquo\;t forget to make your reservation for lunch by calling 995-8441 the previous day or by 8 a.m. the day of.&nbsp\; Lunch is served at 11:30 a.m.&nbsp\; The crew is anticipated to be here at noon.&nbsp\; The menu for the day is turkey\, mashed potatoes and gravy\, carrots and fruit.&nbsp\; There is also a fashion show planned for the day beginning at noon.&nbsp\; The cost for the meal is $4 for ages 60 and over.&nbsp\; Anyone under the age of 60 can purchase the meal for $6.&nbsp\; If you are planning on staying for the Fashion Show\, there is no charge for members and a daily fee of $1 for non-members</span></strong>
LOCATION:James Valley Community Center\, 300 W 1st Ave - Mitchell
UID:e.1624.9139
SEQUENCE:3
DTSTAMP:20260426T012346Z
URL:https://business.mitchellchamber.com/events/details/uss-sd-visit-jvcc-9139
END:VEVENT

END:VCALENDAR
