BEGIN:VCALENDAR
VERSION:2.0
PRODID:-//ChamberMaster//Event Calendar 2.0//EN
METHOD:PUBLISH
X-PUBLISHED-TTL:P3D
REFRESH-INTERVAL:P3D
CALSCALE:GREGORIAN
BEGIN:VEVENT
DTSTART:20180728T150000Z
DTEND:20180728T190000Z
X-MICROSOFT-CDO-ALLDAYEVENT:FALSE
SUMMARY:Used Book Sale
DESCRIPTION:Stop by the Carnegie Resource Center for a used book sale.  Historical Material at 50% off.
X-ALT-DESC;FMTTYPE=text/html:Stop by the Carnegie Resource Center for a used book sale.&nbsp\; Historical Material at 50% off.<br />\n&nbsp\;
LOCATION:Carnegie Resource Center 119 W 3rd Ave Mitchell\, SD 57301
UID:e.1624.17052
SEQUENCE:3
DTSTAMP:20260425T110658Z
URL:https://business.mitchellchamber.com/events/details/used-book-sale-17052
END:VEVENT

END:VCALENDAR
