BEGIN:VCALENDAR
VERSION:2.0
PRODID:-//ChamberMaster//Event Calendar 2.0//EN
METHOD:PUBLISH
X-PUBLISHED-TTL:P3D
REFRESH-INTERVAL:P3D
CALSCALE:GREGORIAN
BEGIN:VEVENT
DTSTART:20240319T230000Z
DTEND:20240320T010000Z
X-MICROSOFT-CDO-ALLDAYEVENT:FALSE
SUMMARY:Updates on Lake Mitchell: Informational Meeting
DESCRIPTION:Join us for an informative session on the future of Lake Mitchell! \n\nCurious about the dredging process and what it means for Lake Mitchell? Come hear directly from our city officials and Barr Engineering! They'll be sharing insights on what the dredging process will look like and how it will impact our beloved lake.\n\nPlus\, get the latest updates from representatives of Friends of the Firesteel!\n\nMark your calendars for Tuesday\, March 19th\, at 6:00 PM.\n\nVenue: The Corn Palace\n\nDon't miss this opportunity to stay informed and engaged in the future of Lake Mitchell. See you there!\n\n\n\nThis meeting is hosted by the Enhance Mitchell Committee which comes from the Forward 2040 Community Vision and Strategic Action Plan. The goal of Enhance Mitchell is to get likeminded individuals in the room to evolve Mitchell's recreation\, tourism\, and place-making. Focus will be given to creating\, enhancing\, and promoting our unique City and the authentic aspects that can only be found in Mitchell.
X-ALT-DESC;FMTTYPE=text/html:<div>Join us for an informative session on the future of Lake Mitchell!&nbsp\;</div>\n\n<div>Curious about the dredging process and what it means for Lake Mitchell? Come hear directly from our city officials and Barr Engineering! They&#39\;ll be sharing insights on what the dredging process will look like and how it will impact our beloved lake.</div>\n\n<div>Plus\, get the latest updates from representatives of Friends of the Firesteel!</div>\n\n<div>Mark your calendars for Tuesday\, March 19th\, at 6:00 PM.<br />\nVenue: The Corn Palace</div>\n\n<div>Don&#39\;t miss this opportunity to stay informed and engaged in the future of Lake Mitchell. See you there!<br />\n<br />\n<em><span style="font-size:11px\;">This meeting is hosted by the Enhance Mitchell Committee which comes from the Forward 2040 Community Vision and Strategic Action Plan. The goal of Enhance Mitchell is to get likeminded individuals in the room to evolve Mitchell&rsquo\;s recreation\, tourism\, and place-making. Focus will be given to creating\, enhancing\, and promoting our unique City and the authentic aspects that can only be found in Mitchell.&nbsp\;&nbsp\;</span></em></div>\n
LOCATION:The Corn Palace 604 N. Main St. Mitchell\, SD 57301
UID:e.1624.36159
SEQUENCE:3
DTSTAMP:20260420T105224Z
URL:https://business.mitchellchamber.com/events/details/updates-on-lake-mitchell-informational-meeting-36159
END:VEVENT

END:VCALENDAR
