BEGIN:VCALENDAR
VERSION:2.0
PRODID:-//ChamberMaster//Event Calendar 2.0//EN
METHOD:PUBLISH
X-PUBLISHED-TTL:P3D
REFRESH-INTERVAL:P3D
CALSCALE:GREGORIAN
BEGIN:VEVENT
DTSTART:20231201T010000Z
DTEND:20231201T030000Z
X-MICROSOFT-CDO-ALLDAYEVENT:FALSE
SUMMARY:Up With Show
DESCRIPTION:You won't want to miss our annual Up With Show!
X-ALT-DESC;FMTTYPE=text/html:<div>You won&rsquo\;t want to miss our annual Up With Show!</div>\n\n<div>\n<div>\n<div>&nbsp\;</div>\n</div>\n</div>\n
LOCATION:Performing Arts Center 821 N Capital St. Mitchell\, SD 57301
UID:e.1624.35395
SEQUENCE:3
DTSTAMP:20260420T160717Z
URL:https://business.mitchellchamber.com/events/details/up-with-show-35395
END:VEVENT

END:VCALENDAR
