BEGIN:VCALENDAR
VERSION:2.0
PRODID:-//ChamberMaster//Event Calendar 2.0//EN
METHOD:PUBLISH
X-PUBLISHED-TTL:P3D
REFRESH-INTERVAL:P3D
CALSCALE:GREGORIAN
BEGIN:VEVENT
DTSTART:20221004T000000Z
DTEND:20221004T010000Z
X-MICROSOFT-CDO-ALLDAYEVENT:FALSE
SUMMARY:Unity Day
DESCRIPTION:Join the Safe Place of Eastern South Dakota for their 2nd Annual "Unity Day" in honor of those who have experienced or are experiencing domestic violence. There will be information on domestic violence\, stations by Mitchell Tech\, a prayer by Fusion Church\, and worship music by DWU Campus Ministry.\n\n\n\nBe sure to mark your calendars for October 3\, 2022 at the Corn Palace Plaza starting at 7 p.m. and get your purple ready\, because you will not want to miss this!\n\n\n\nSafe Place of Eastern South Dakota Facebook Page
X-ALT-DESC;FMTTYPE=text/html:Join the Safe Place of Eastern South Dakota for their 2nd Annual &quot\;Unity Day&quot\; in honor of those who have experienced or are experiencing domestic violence. There will be information on domestic violence\, stations by Mitchell Tech\, a prayer by Fusion Church\, and worship music by DWU Campus Ministry.<br />\n<br />\nBe sure to mark your calendars for October 3\, 2022 at the Corn Palace Plaza starting at 7 p.m. and get your purple ready\, because you will not want to miss this!<br />\n<br />\n<a href="https://www.facebook.com/events/1268269413983968?ref=newsfeed">Safe Place of Eastern South Dakota Facebook Page</a>
LOCATION:Corn Palace Plaza 604 N Main St Mitchell\, SD 57301
UID:e.1624.32663
SEQUENCE:3
DTSTAMP:20260421T165941Z
URL:https://business.mitchellchamber.com/events/details/unity-day-32663
END:VEVENT

END:VCALENDAR
