BEGIN:VCALENDAR
VERSION:2.0
PRODID:-//ChamberMaster//Event Calendar 2.0//EN
METHOD:PUBLISH
X-PUBLISHED-TTL:P3D
REFRESH-INTERVAL:P3D
CALSCALE:GREGORIAN
BEGIN:VEVENT
DTSTART:20231112T220000Z
DTEND:20231113T020000Z
X-MICROSOFT-CDO-ALLDAYEVENT:FALSE
SUMMARY:Turkey BINGO by 40 and 8 Veterans Group
DESCRIPTION:The 40 & 8 Veterans Group is hosting Turkey BINGO on Sunday\, November 12\, 2023 at the James Valley Community Center from 4-8 p.m.\n\n\n\nProceeds from this event go to support the Mitchell Technical College nursing students.
X-ALT-DESC;FMTTYPE=text/html:The 40 &amp\; 8 Veterans Group is hosting Turkey BINGO on Sunday\, November 12\, 2023 at the James Valley Community Center from 4-8 p.m.<br />\n<br />\nProceeds from this event go to support the Mitchell Technical College nursing students.
LOCATION:James Valley Community Center 300 W 1st Ave Mitchell\, SD 57301
UID:e.1624.35096
SEQUENCE:3
DTSTAMP:20260420T154711Z
URL:https://business.mitchellchamber.com/events/details/turkey-bingo-by-40-and-8-veterans-group-35096
END:VEVENT

END:VCALENDAR
