BEGIN:VCALENDAR
VERSION:2.0
PRODID:-//ChamberMaster//Event Calendar 2.0//EN
METHOD:PUBLISH
X-PUBLISHED-TTL:P3D
REFRESH-INTERVAL:P3D
CALSCALE:GREGORIAN
BEGIN:VEVENT
DTSTART:20220924T141500Z
DTEND:20220924T170000Z
X-MICROSOFT-CDO-ALLDAYEVENT:FALSE
SUMMARY:Trap Shoot - Open To The Public
DESCRIPTION:This Trap Shoot is OPEN TO THE PUBLIC and is a fundraiser for ALS ( Lou Gehrig's Disease) and the Local VFW Renovation Project.\n\nTeams consist of 5 shooters and teams may register in advanced.\n\nIndividual entrants will be drawn randomly to form additional teams.\n\nRegistration fees are $50 per adult team shooter\; $25 per youth shooter and $50 per practice round.\n\nAnyone including walk-ons may shoot practice rounds.\n\nTeam shooting will consist of 2 rounds of 25 clays each.\n\nCost includes:  Clays and 23 or 20 ga. shells.\n\nAwards given for best individual and team.\n\nLunch (brat or hotdog\, chips & drink) - Free Will Donation.\n\n\n\nChuck McPeek and other families/friends whose lives have been touched by ALS will be present at the event.\n\n\n\nThere will be Shotgun & Rifle Raffle Boards
X-ALT-DESC;FMTTYPE=text/html:This Trap Shoot is OPEN TO THE PUBLIC and is a fundraiser for ALS ( Lou Gehrig&#39\;s Disease) and the Local VFW Renovation Project.<br />\nTeams consist of 5 shooters and teams may register in advanced.<br />\nIndividual entrants will be drawn randomly to form additional teams.<br />\nRegistration fees are $50 per adult team shooter\; $25 per youth shooter and $50 per practice round.<br />\nAnyone including walk-ons may shoot practice rounds.<br />\nTeam shooting will consist of 2 rounds of 25 clays each.<br />\nCost includes:&nbsp\; Clays and 23 or 20 ga. shells.<br />\nAwards given for best individual and team.<br />\nLunch (brat or hotdog\, chips &amp\; drink) - Free Will Donation.<br />\n<br />\nChuck McPeek and other families/friends whose lives have been touched by ALS will be present at the event.<br />\n<br />\nThere will be Shotgun &amp\; Rifle Raffle Boards<br />\n&nbsp\;
LOCATION:Mitchell Gun Club 406th Avenue (W. Hwy. 16) Mitchell\, SD
UID:e.1624.32678
SEQUENCE:3
DTSTAMP:20260421T184001Z
URL:https://business.mitchellchamber.com/events/details/trap-shoot-open-to-the-public-32678
END:VEVENT

END:VCALENDAR
