BEGIN:VCALENDAR
VERSION:2.0
PRODID:-//ChamberMaster//Event Calendar 2.0//EN
METHOD:PUBLISH
X-PUBLISHED-TTL:P3D
REFRESH-INTERVAL:P3D
CALSCALE:GREGORIAN
BEGIN:VEVENT
DTSTART:20230614T150000Z
DTEND:20230614T180000Z
X-MICROSOFT-CDO-ALLDAYEVENT:FALSE
SUMMARY:Touch-a-Truck
DESCRIPTION:Bring your kids to the Touch-a-Truck event at the Mitchell Public Library parking lot on Wed. June 14 from 10am-1pm. This is a great opportunity to see a fire engine\, ambulance\, and huge city vehicles up close. Everyone is welcome. Children should be accompanied by parent or caregiver. This event is part of the Mitchell Public Library's "All Together Now" Summer Reading Program.
X-ALT-DESC;FMTTYPE=text/html:Bring your kids to the Touch-a-Truck event at the Mitchell Public Library parking lot on Wed. June 14 from 10am-1pm. This is a great opportunity to see a fire engine\, ambulance\, and huge city vehicles up close. Everyone is welcome. Children should be accompanied by parent or caregiver. This event is part of the Mitchell Public Library&#39\;s &quot\;All Together Now&quot\; Summer Reading Program.
LOCATION:Mitchell Public Library 221 N. Duff Mitchell SD 57301
UID:e.1624.34356
SEQUENCE:3
DTSTAMP:20260421T072225Z
URL:https://business.mitchellchamber.com/events/details/touch-a-truck-34356
END:VEVENT

END:VCALENDAR
