BEGIN:VCALENDAR
VERSION:2.0
PRODID:-//ChamberMaster//Event Calendar 2.0//EN
METHOD:PUBLISH
X-PUBLISHED-TTL:P3D
REFRESH-INTERVAL:P3D
CALSCALE:GREGORIAN
BEGIN:VEVENT
DTSTART:20220721T230000Z
DTEND:20220722T020000Z
X-MICROSOFT-CDO-ALLDAYEVENT:FALSE
SUMMARY:Tom Buckmiller & the Tone Tailors feat. The Tritones Jazz Combo
DESCRIPTION:Tom and Tone Tailors will bring a fantastic Blues Sound to the Parkston Amphitheater. Tom describes the sound as truly "upbeat" Blues. The opening act\, "The Tritones Jazz Combo" plays a mix of older jazz standards\, new jazz/funk and some instrumental rock.\n\nTritones 6:00pm-7:00pm\n\nTom Buckmiller and the Tone Tailors 7:00pm-9:00pm
X-ALT-DESC;FMTTYPE=text/html:<div>Tom and Tone Tailors will bring a fantastic Blues Sound to the Parkston Amphitheater. Tom describes the sound as truly &quot\;upbeat&quot\; Blues. The opening act\, &quot\;The Tritones Jazz Combo&quot\; plays a mix of older jazz standards\, new jazz/funk and some instrumental rock.</div>\n\n<div>Tritones 6:00pm-7:00pm<br />\nTom Buckmiller and the Tone Tailors 7:00pm-9:00pm</div>\n
LOCATION:East Park Amphitheater Parkston\, SD
UID:e.1624.31810
SEQUENCE:3
DTSTAMP:20260421T221532Z
URL:https://business.mitchellchamber.com/events/details/tom-buckmiller-the-tone-tailors-feat-the-tritones-jazz-combo-31810
END:VEVENT

END:VCALENDAR
