BEGIN:VCALENDAR
VERSION:2.0
PRODID:-//ChamberMaster//Event Calendar 2.0//EN
METHOD:PUBLISH
X-PUBLISHED-TTL:P3D
REFRESH-INTERVAL:P3D
CALSCALE:GREGORIAN
BEGIN:VEVENT
DTSTART;VALUE=DATE:20260306
DTEND;VALUE=DATE:20260307
TRANSP:TRANSPARENT
X-MICROSOFT-CDO-ALLDAYEVENT:TRUE
SUMMARY:Todd Cassilli
DESCRIPTION:The Alexandria/Emery/Mitchell Pink Ladies would like to show their appreciation to everyone who has supported them throughout the years. Join us for a night of good music and fun! All ages welcome
X-ALT-DESC;FMTTYPE=text/html:The Alexandria/Emery/Mitchell Pink Ladies would like to show their appreciation to everyone who has supported them throughout the years. Join us for a night of good music and fun! All ages welcome
LOCATION:Old gym. Emery SD
UID:e.1624.42623
SEQUENCE:3
DTSTAMP:20260423T123119Z
URL:https://business.mitchellchamber.com/events/details/todd-cassilli-42623
END:VEVENT

END:VCALENDAR
