BEGIN:VCALENDAR
VERSION:2.0
PRODID:-//ChamberMaster//Event Calendar 2.0//EN
METHOD:PUBLISH
X-PUBLISHED-TTL:P3D
REFRESH-INTERVAL:P3D
CALSCALE:GREGORIAN
BEGIN:VEVENT
DTSTART:20181212T010000Z
DTEND:20181212T020000Z
X-MICROSOFT-CDO-ALLDAYEVENT:FALSE
SUMMARY:'Tis the Season - Takin gthe Stress out of Holiday Caregiving
DESCRIPTION:The holidays can be a stressful time\, especially when caring for a loved one with Dementia. Learn ways to adjust your holiday traditions to ensure enjoyment for all.
X-ALT-DESC;FMTTYPE=text/html:The holidays can be a stressful time\, especially when caring for a loved one with Dementia. Learn ways to adjust your holiday traditions to ensure enjoyment for all.
LOCATION:Edgewood Memory Care 2201 N Wisconsin St. Mitchell\, SD 57301
UID:e.1624.20029
SEQUENCE:3
DTSTAMP:20260424T203607Z
URL:https://business.mitchellchamber.com/events/details/tis-the-season-takin-gthe-stress-out-of-holiday-caregiving-20029
END:VEVENT

END:VCALENDAR
