BEGIN:VCALENDAR
VERSION:2.0
PRODID:-//ChamberMaster//Event Calendar 2.0//EN
METHOD:PUBLISH
X-PUBLISHED-TTL:P3D
REFRESH-INTERVAL:P3D
CALSCALE:GREGORIAN
BEGIN:VEVENT
DTSTART:20190329T143000Z
DTEND:20190329T180000Z
X-MICROSOFT-CDO-ALLDAYEVENT:FALSE
SUMMARY:Tiger Preview Day
DESCRIPTION:We offer general visit days for students of all ages who are interested in learning more about DWU. You will tour campus\, meet with faculty\, staff and current students\, ask questions\, and even take a selfie with our mascot\, Wesley N. Tiger! Your parent(s)/guardian(s) are welcome to attend with you.
X-ALT-DESC;FMTTYPE=text/html:We offer general visit days for students of all ages who are interested in learning more about DWU. You will tour campus\, meet with faculty\, staff and current students\, ask questions\, and even take a selfie with our mascot\, Wesley N. Tiger! Your parent(s)/guardian(s) are welcome to attend with you.
LOCATION:DWU Campus
UID:e.1624.22975
SEQUENCE:3
DTSTAMP:20260424T155024Z
URL:https://business.mitchellchamber.com/events/details/tiger-preview-day-22975
END:VEVENT

END:VCALENDAR
