BEGIN:VCALENDAR
VERSION:2.0
PRODID:-//ChamberMaster//Event Calendar 2.0//EN
METHOD:PUBLISH
X-PUBLISHED-TTL:P3D
REFRESH-INTERVAL:P3D
CALSCALE:GREGORIAN
BEGIN:VEVENT
DTSTART:20180705T153000Z
DTEND:20180705T160000Z
X-MICROSOFT-CDO-ALLDAYEVENT:FALSE
SUMMARY:Thursday Storytime at the Library
DESCRIPTION:Join us for stories\, crafts\, music\, and fun! \n\nThursday Storytime begins June 7 at 10:30 am and continues every Thursday through July 26. (The goats will also be here on June 7 from 10-noon.) Preschoolers\, toddlers\, infants\, and older siblings are welcome with parent or caregiver. See you then!
X-ALT-DESC;FMTTYPE=text/html:<p><span style="color: rgb(29\, 33\, 41)\; font-family: Helvetica\, Arial\, sans-serif\; font-size: 14px\; font-style: normal\; font-variant-ligatures: normal\; font-variant-caps: normal\; font-weight: 400\; letter-spacing: normal\; orphans: 2\; text-align: start\; text-indent: 0px\; text-transform: none\; white-space: normal\; widows: 2\; word-spacing: 0px\; -webkit-text-stroke-width: 0px\; background-color: rgb(255\, 255\, 255)\; text-decoration-style: initial\; text-decoration-color: initial\; display: inline !important\; float: none\;">Join us for stories\, crafts\, music\, and fun! </span></p>\n\n<p><span style="color: rgb(29\, 33\, 41)\; font-family: Helvetica\, Arial\, sans-serif\; font-size: 14px\; font-style: normal\; font-variant-ligatures: normal\; font-variant-caps: normal\; font-weight: 400\; letter-spacing: normal\; orphans: 2\; text-align: start\; text-indent: 0px\; text-transform: none\; white-space: normal\; widows: 2\; word-spacing: 0px\; -webkit-text-stroke-width: 0px\; background-color: rgb(255\, 255\, 255)\; text-decoration-style: initial\; text-decoration-color: initial\; display: inline !important\; float: none\;">Thursday Storytime begins June 7 at 10:30 am and continues every Thursday through July 26. (The goats will also be here on June 7 from 10-noon.) Preschoolers\, toddlers\, infants\, and older siblings are welcome with parent or caregiver. See you then!</span></p>\n
LOCATION:Mitchell Public Library 221 N Duff St Mitchell\, South Dakota
UID:e.1624.15669
SEQUENCE:3
DTSTAMP:20260425T110843Z
URL:https://business.mitchellchamber.com/events/details/thursday-storytime-at-the-library-07-05-2018-15669
END:VEVENT

END:VCALENDAR
