BEGIN:VCALENDAR
VERSION:2.0
PRODID:-//ChamberMaster//Event Calendar 2.0//EN
METHOD:PUBLISH
X-PUBLISHED-TTL:P3D
REFRESH-INTERVAL:P3D
CALSCALE:GREGORIAN
BEGIN:VEVENT
DTSTART:20240215T163000Z
DTEND:20240215T171500Z
X-MICROSOFT-CDO-ALLDAYEVENT:FALSE
SUMMARY:Thursday Storytime at Mitchell Public Library
DESCRIPTION:You're invited to Thursday Storytime at 10:30am at Mitchell Public Library for stories\, songs\, crafts\, and fun. Preschoolers\, toddlers\, infants\, and older children are welcome with parent or caregiver.
X-ALT-DESC;FMTTYPE=text/html:<div>You&#39\;re invited to Thursday Storytime&nbsp\;at 10:30am at Mitchell Public Library for stories\, songs\, crafts\, and fun. Preschoolers\, toddlers\, infants\, and older children are welcome with parent or caregiver.</div>\n
LOCATION:Mitchell Public Library Community Room 221 N. Duff Mitchell\, SD 57301
UID:e.1624.35922
SEQUENCE:3
DTSTAMP:20260420T161025Z
URL:https://business.mitchellchamber.com/events/details/thursday-storytime-at-mitchell-public-library-35922
END:VEVENT

END:VCALENDAR
