BEGIN:VCALENDAR
VERSION:2.0
PRODID:-//ChamberMaster//Event Calendar 2.0//EN
METHOD:PUBLISH
X-PUBLISHED-TTL:P3D
REFRESH-INTERVAL:P3D
CALSCALE:GREGORIAN
BEGIN:VEVENT
DTSTART:20240201T163000Z
DTEND:20240201T171500Z
X-MICROSOFT-CDO-ALLDAYEVENT:FALSE
SUMMARY:Thursday Storytime at Mitchell Public Library
DESCRIPTION:You're invited to Thursday Storytime at Mitchell Public Library on Feb. 1 at 10:30am for stories\, songs\, crafts\, and fun. Preschoolers\, toddlers\, infants\, and older children are welcome with parent or caregiver. We will meet in the library's Community Room.
X-ALT-DESC;FMTTYPE=text/html:<div>You&#39\;re invited to Thursday Storytime at Mitchell Public Library on Feb. 1 at 10:30am for stories\, songs\, crafts\, and fun. Preschoolers\, toddlers\, infants\, and older children are welcome with parent or caregiver. We will meet in the library&#39\;s Community Room.</div>\n
LOCATION:Mitchell Public Library Community Room 221 N. Duff Mitchell\, SD 57301
UID:e.1624.35866
SEQUENCE:3
DTSTAMP:20260420T160851Z
URL:https://business.mitchellchamber.com/events/details/thursday-storytime-at-mitchell-public-library-35866
END:VEVENT

END:VCALENDAR
