BEGIN:VCALENDAR
VERSION:2.0
PRODID:-//ChamberMaster//Event Calendar 2.0//EN
METHOD:PUBLISH
X-PUBLISHED-TTL:P3D
REFRESH-INTERVAL:P3D
CALSCALE:GREGORIAN
BEGIN:VEVENT
DTSTART:20231130T163000Z
DTEND:20231130T171500Z
X-MICROSOFT-CDO-ALLDAYEVENT:FALSE
SUMMARY:Thursday Storytime at Mitchell Public Library
DESCRIPTION:You're invited to Thursday Storytime at Mitchell Public Library on Nov. 30 at 10:30am for stories\, songs\, crafts\, and fun. Preschoolers\, toddlers\, infants\, and older children are welcome with parent or caregiver.\n\nWe will meet in the library's Community Room. Ms. Rachel will be subbing again for Ms. Jean. (You'll have lots of fun!)\n\nQuestions? Please call the library: 605-995-8480.
X-ALT-DESC;FMTTYPE=text/html:<div>You&#39\;re invited to Thursday Storytime at Mitchell Public Library on Nov. 30 at 10:30am for stories\, songs\, crafts\, and fun. Preschoolers\, toddlers\, infants\, and older children are welcome with parent or caregiver.</div>\n\n<div>We will meet in the library&#39\;s Community Room. Ms. Rachel will be subbing again for Ms. Jean. (You&#39\;ll have lots of fun!)</div>\n\n<div>Questions? Please call the library: 605-995-8480.</div>\n
LOCATION:Mitchell Public Library 221 N Duff St. Mitchell\, SD 57301
UID:e.1624.35421
SEQUENCE:3
DTSTAMP:20260420T142034Z
URL:https://business.mitchellchamber.com/events/details/thursday-storytime-at-mitchell-public-library-35421
END:VEVENT

END:VCALENDAR
