BEGIN:VCALENDAR
VERSION:2.0
PRODID:-//ChamberMaster//Event Calendar 2.0//EN
METHOD:PUBLISH
X-PUBLISHED-TTL:P3D
REFRESH-INTERVAL:P3D
CALSCALE:GREGORIAN
BEGIN:VEVENT
DTSTART:20231109T163000Z
DTEND:20231109T171500Z
X-MICROSOFT-CDO-ALLDAYEVENT:FALSE
SUMMARY:Thursday Storytime at Mitchell Public Library
DESCRIPTION:You're invited to Thursday Storytime on Nov. 9 at 10:30am at Mitchell Public Library for stories\, songs\, crafts\, and fun. Preschoolers\, toddlers\, infants\, and older children are welcome with parent or caregiver. Bring a friend!
X-ALT-DESC;FMTTYPE=text/html:<div min-height:="" sans="" source="" vertical-align:="">You&#39\;re invited to Thursday Storytime on Nov. 9 at 10:30am at Mitchell Public Library for stories\, songs\, crafts\, and fun. Preschoolers\, toddlers\, infants\, and older children are welcome with parent or caregiver. Bring a friend!</div>\n
LOCATION:Mitchell Public Library Community Room 221 N Duff Mitchell\, SD 57301
UID:e.1624.35174
SEQUENCE:3
DTSTAMP:20260420T141938Z
URL:https://business.mitchellchamber.com/events/details/thursday-storytime-at-mitchell-public-library-35174
END:VEVENT

END:VCALENDAR
