BEGIN:VCALENDAR
VERSION:2.0
PRODID:-//ChamberMaster//Event Calendar 2.0//EN
METHOD:PUBLISH
X-PUBLISHED-TTL:P3D
REFRESH-INTERVAL:P3D
CALSCALE:GREGORIAN
BEGIN:VEVENT
DTSTART:20221020T153000Z
DTEND:20221020T161500Z
X-MICROSOFT-CDO-ALLDAYEVENT:FALSE
SUMMARY:Thursday Story Time at Mitchell Public Library
DESCRIPTION:You're invited to Thursday Story Time at the Library at 10:30am for stories\, songs\, crafts\, and fun. Preschoolers\, toddlers\, infants\, and older children are welcome with parent or caregiver. See you there!
X-ALT-DESC;FMTTYPE=text/html:<span style="background-color:rgb(255\, 255\, 255)\; color:rgb(51\, 51\, 51)\; font-family:source sans pro\; font-size:15.2px">You&#39\;re invited to Thursday Story Time at the Library at 10:30am for stories\, songs\, crafts\, and fun. Preschoolers\, toddlers\, infants\, and older children are welcome with parent or caregiver. See you there!</span>
LOCATION:Mitchell Public Library
UID:e.1624.32830
SEQUENCE:3
DTSTAMP:20260421T170517Z
URL:https://business.mitchellchamber.com/events/details/thursday-story-time-at-mitchell-public-library-10-20-2022-32830
END:VEVENT

END:VCALENDAR
