BEGIN:VCALENDAR
VERSION:2.0
PRODID:-//ChamberMaster//Event Calendar 2.0//EN
METHOD:PUBLISH
X-PUBLISHED-TTL:P3D
REFRESH-INTERVAL:P3D
CALSCALE:GREGORIAN
BEGIN:VEVENT
DTSTART:20221006T153000Z
DTEND:20221006T161500Z
X-MICROSOFT-CDO-ALLDAYEVENT:FALSE
SUMMARY:Thursday Story Time at Mitchell Public Library
DESCRIPTION:You're invited to Thursday Story Time at the Library at 10:30am for stories\, songs\, crafts\, and fun. Preschoolers\, toddlers\, infants\, and older children are welcome with parent or caregiver. See you there!
X-ALT-DESC;FMTTYPE=text/html:<span style="background-color:rgb(255\, 255\, 255)\; color:rgb(51\, 51\, 51)\; font-family:source sans pro\; font-size:15.2px">You&#39\;re invited to Thursday Story Time at the Library at 10:30am for stories\, songs\, crafts\, and fun. Preschoolers\, toddlers\, infants\, and older children are welcome with parent or caregiver. See you there!</span>
LOCATION:Mitchell Public Library 221 N Duff St. Mitchell\, SD 57301
UID:e.1624.32851
SEQUENCE:3
DTSTAMP:20260421T170648Z
URL:https://business.mitchellchamber.com/events/details/thursday-story-time-at-mitchell-public-library-10-06-2022-32851
END:VEVENT

END:VCALENDAR
