BEGIN:VCALENDAR
VERSION:2.0
PRODID:-//ChamberMaster//Event Calendar 2.0//EN
METHOD:PUBLISH
X-PUBLISHED-TTL:P3D
REFRESH-INTERVAL:P3D
CALSCALE:GREGORIAN
BEGIN:VEVENT
DTSTART:20171203T230000Z
DTEND:20171204T020000Z
X-MICROSOFT-CDO-ALLDAYEVENT:FALSE
SUMMARY:The Wizards of Winter
DESCRIPTION:The original members of the Trans-Siberian Orchestra\n\nSunday\, December 3rd\, 2017 5PM\n\nAt The World's Only Corn Palace\n\nTickets $20 presale and $25 day of show
X-ALT-DESC;FMTTYPE=text/html:The original members of the Trans-Siberian Orchestra<br />\nSunday\, December 3rd\, 2017 5PM<br />\nAt The World&#39\;s Only Corn Palace<br />\nTickets $20 presale and $25 day of show
LOCATION:The World's Only Corn Palace
UID:e.1624.9164
SEQUENCE:3
DTSTAMP:20260425T221258Z
URL:https://business.mitchellchamber.com/events/details/the-wizards-of-winter-9164
END:VEVENT

END:VCALENDAR
