BEGIN:VCALENDAR
VERSION:2.0
PRODID:-//ChamberMaster//Event Calendar 2.0//EN
METHOD:PUBLISH
X-PUBLISHED-TTL:P3D
REFRESH-INTERVAL:P3D
CALSCALE:GREGORIAN
BEGIN:VEVENT
DTSTART:20180621T140000Z
DTEND:20180622T000000Z
X-MICROSOFT-CDO-ALLDAYEVENT:FALSE
SUMMARY:The Longest Day - SD Alzheimer's Assn
DESCRIPTION:Help raise awareness and funds for SD Alzheimer's Association. Trek Around the Track\; Take on a Tiger hoops challenge and other activities to increase public awareness about Alzheimer's in South Dakota.
X-ALT-DESC;FMTTYPE=text/html:Help raise awareness and funds for SD Alzheimer&#39\;s Association. Trek Around the Track\; Take on a Tiger hoops challenge and other activities to increase public awareness about Alzheimer&#39\;s in South Dakota.
LOCATION:DWU/Avera Sports and Wellness Complex 521 Norway Mitchell SD 57301
UID:e.1624.15819
SEQUENCE:3
DTSTAMP:20260425T125058Z
URL:https://business.mitchellchamber.com/events/details/the-longest-day-sd-alzheimer-s-assn-15819
END:VEVENT

END:VCALENDAR
