BEGIN:VCALENDAR
VERSION:2.0
PRODID:-//ChamberMaster//Event Calendar 2.0//EN
METHOD:PUBLISH
X-PUBLISHED-TTL:P3D
REFRESH-INTERVAL:P3D
CALSCALE:GREGORIAN
BEGIN:VEVENT
DTSTART:20180621T210000Z
DTEND:20180622T000000Z
X-MICROSOFT-CDO-ALLDAYEVENT:FALSE
SUMMARY:The Longest Day Carnival!
DESCRIPTION:Have fun helping Edgewood raise awareness and funds for the Alzheimer's Association of SD! Bouncy house for the kids\, cotton candy\, and other food and refreshments.
X-ALT-DESC;FMTTYPE=text/html:Have fun helping Edgewood raise awareness and funds for the Alzheimer&#39\;s Association of SD! Bouncy house for the kids\, cotton candy\, and other food and refreshments.
LOCATION:Edgewood Memory Care 2201 N Wisconsin Mitchell SD
UID:e.1624.15645
SEQUENCE:3
DTSTAMP:20260425T124609Z
URL:https://business.mitchellchamber.com/events/details/the-longest-day-carnival-15645
END:VEVENT

END:VCALENDAR
