BEGIN:VCALENDAR
VERSION:2.0
PRODID:-//ChamberMaster//Event Calendar 2.0//EN
METHOD:PUBLISH
X-PUBLISHED-TTL:P3D
REFRESH-INTERVAL:P3D
CALSCALE:GREGORIAN
BEGIN:VEVENT
DTSTART:20240412T000000Z
DTEND:20240412T020000Z
X-MICROSOFT-CDO-ALLDAYEVENT:FALSE
SUMMARY:The Lewis and Clark Legacy in South Dakota
DESCRIPTION:Join us on Thursday\, April 11th\, 2024 for a presentation by author and DWU professor Dr. Brad Tennant. The "Lewis and Clark Legacy in South Dakota" will cover Native Americans\, wildlife\, military\, food/nutrition\, medicine\, and other aspects of the Lewis and Clark Expedition of 1804-1806. The lecture will begin a 7:00pm\, there will be beverages and snacks served. The event is open to all\, free will donations are encouraged.
X-ALT-DESC;FMTTYPE=text/html:Join us on Thursday\, April 11th\, 2024 for a presentation by author and DWU professor Dr. Brad Tennant. The &quot\;Lewis and Clark Legacy in South Dakota&quot\; will cover Native Americans\, wildlife\, military\, food/nutrition\, medicine\, and other aspects of the Lewis and Clark Expedition of 1804-1806. The lecture will begin a 7:00pm\, there will be beverages and snacks served. The event is open to all\, free will donations are encouraged.
LOCATION:Mitchell Prehistoric Indian Village 3200 Indian Village Rd. Mitchell\, SD 57301
UID:e.1624.36183
SEQUENCE:3
DTSTAMP:20260420T094833Z
URL:https://business.mitchellchamber.com/events/details/the-lewis-and-clark-legacy-in-south-dakota-36183
END:VEVENT

END:VCALENDAR
