BEGIN:VCALENDAR
VERSION:2.0
PRODID:-//ChamberMaster//Event Calendar 2.0//EN
METHOD:PUBLISH
X-PUBLISHED-TTL:P3D
REFRESH-INTERVAL:P3D
CALSCALE:GREGORIAN
BEGIN:VEVENT
DTSTART:20211024T003000Z
DTEND:20211024T023000Z
X-MICROSOFT-CDO-ALLDAYEVENT:FALSE
SUMMARY:The Hunchback of Notre Dame
DESCRIPTION:This exciting dramatization by Tim Kelly captures the essence of the famous original. It brings to life some of the most memorable fiction characters ever created: The good-hearted bell ringer of Notre Dame Cathedral\, Quasimodo\, the vain\, handsome captain Phoebus\, the villainous Frollo\, the temperamental poet Pierre Gringoire\, the colorful Beggars of Paris and the beautiful\, innocent\, naive gypsy Esmeralda\, whom they all love.
X-ALT-DESC;FMTTYPE=text/html:This exciting dramatization by Tim Kelly captures the essence of the famous original. It brings to life some of the most memorable fiction characters ever created: The good-hearted bell ringer of Notre Dame Cathedral\, Quasimodo\, the vain\, handsome captain Phoebus\, the villainous Frollo\, the temperamental poet Pierre Gringoire\, the colorful Beggars of Paris and the beautiful\, innocent\, naive gypsy Esmeralda\, whom they all love.
LOCATION:Pepsi Cola Theatre 700 N. Main St. Mitchell\, South Dakota
UID:e.1624.31666
SEQUENCE:3
DTSTAMP:20260422T175949Z
URL:https://business.mitchellchamber.com/events/details/the-hunchback-of-notre-dame-31666
END:VEVENT

END:VCALENDAR
